BEGIN:VCALENDAR
VERSION:2.0
PRODID:-//Huizenga for Congress - ECPv5.2.1//NONSGML v1.0//EN
CALSCALE:GREGORIAN
METHOD:PUBLISH
X-WR-CALNAME:Huizenga for Congress
X-ORIGINAL-URL:https://huizengaforcongress.com
X-WR-CALDESC:Events for Huizenga for Congress
BEGIN:VTIMEZONE
TZID:UTC
BEGIN:STANDARD
TZOFFSETFROM:+0000
TZOFFSETTO:+0000
TZNAME:UTC
DTSTART:20190101T000000
END:STANDARD
END:VTIMEZONE
BEGIN:VEVENT
DTSTART;TZID=UTC:20191104T080000
DTEND;TZID=UTC:20191104T170000
DTSTAMP:20201112T224137
CREATED:20191104T100520Z
LAST-MODIFIED:20191104T100520Z
UID:3018-1572854400-1572886800@huizengaforcongress.com
SUMMARY:The Yes Event! Say Yes!
DESCRIPTION:hello! and goodbye
URL:https://huizengaforcongress.com/event/the-yes-event-say-yes/
END:VEVENT
END:VCALENDAR